BEGIN:VCALENDAR
VERSION:2.0
PRODID:GIGPRESS 2.0 WORDPRESS PLUGIN
CALSCALE:GREGORIAN
X-WR-TIMEZONE:Etc/GMT
METHOD:PUBLISH
BEGIN:VTIMEZONE
TZID:GMT
BEGIN:STANDARD
DTSTART:20071028T010000
TZOFFSETTO:+0000
TZOFFSETFROM:+0000
END:STANDARD
END:VTIMEZONE
BEGIN:VEVENT
SUMMARY:LHA Ice Cream Social at Warren Hook Park
DESCRIPTION:Notes: Come out to our park\, visit the neighbors\, and enjoy a cone! Saturday July 18th\, 1-3 pm in Warren Hook Park (Trestle Glen at Brookwood). 
LOCATION:Warren Hook Park\, Trestle Glen at Brookwood Road\, Oakland\, US
UID:20260718T200000Z-86-communications@lakeshorehomes.net
URL:https://lakeshorehomes.net/archives/2983
DTSTART;VALUE=DATE-TIME;TZID=GMT:20260718T200000Z
DTEND;VALUE=DATE-TIME;TZID=GMT:20260718T200000Z
DTSTAMP:20260420T101250Z
END:VEVENT
END:VCALENDAR