BEGIN:VCALENDAR
VERSION:2.0
PRODID:GIGPRESS 2.0 WORDPRESS PLUGIN
CALSCALE:GREGORIAN
X-WR-TIMEZONE:Etc/GMT
METHOD:PUBLISH
BEGIN:VTIMEZONE
TZID:GMT
BEGIN:STANDARD
DTSTART:20071028T010000
TZOFFSETTO:+0000
TZOFFSETFROM:+0000
END:STANDARD
END:VTIMEZONE
BEGIN:VEVENT
SUMMARY:LHA Neighbor Network at Virtual meeting place
DESCRIPTION:Notes: 1st Wednesday monthly.  Neighbor Network melds Membership Committee &amp\; LHA CARES. 
LOCATION:Virtual meeting place\, Oakland\, US
UID:20260507T020000Z-41-communications@lakeshorehomes.net
URL:https://lakeshorehomes.net
DTSTART;VALUE=DATE-TIME;TZID=GMT:20260507T020000Z
DTEND;VALUE=DATE-TIME;TZID=GMT:20260507T020000Z
DTSTAMP:20260420T064204Z
END:VEVENT
END:VCALENDAR