BEGIN:VCALENDAR
VERSION:2.0
PRODID:GIGPRESS 2.0 WORDPRESS PLUGIN
CALSCALE:GREGORIAN
X-WR-TIMEZONE:Etc/GMT
METHOD:PUBLISH
BEGIN:VTIMEZONE
TZID:GMT
BEGIN:STANDARD
DTSTART:20071028T010000
TZOFFSETTO:+0000
TZOFFSETFROM:+0000
END:STANDARD
END:VTIMEZONE
BEGIN:VEVENT
SUMMARY:Music in the Park at LHA office
DESCRIPTION:Notes: Rock out with neighbors to live music at the Office Park! Bring the family for an afternoon of fun and music. Show will be from 3:30-5 pm. 
LOCATION:LHA office\, 907 Underhills Road\, Oakland\, US
UID:20260919T223000Z-95-communications@lakeshorehomes.net
URL:https://lakeshorehomes.net
DTSTART;VALUE=DATE-TIME;TZID=GMT:20260919T223000Z
DTEND;VALUE=DATE-TIME;TZID=GMT:20260919T223000Z
DTSTAMP:20260420T065931Z
END:VEVENT
END:VCALENDAR