BEGIN:VCALENDAR
VERSION:2.0
PRODID:GIGPRESS 2.0 WORDPRESS PLUGIN
CALSCALE:GREGORIAN
X-WR-TIMEZONE:Etc/GMT
METHOD:PUBLISH
BEGIN:VTIMEZONE
TZID:GMT
BEGIN:STANDARD
DTSTART:20071028T010000
TZOFFSETTO:+0000
TZOFFSETFROM:+0000
END:STANDARD
END:VTIMEZONE
BEGIN:VEVENT
SUMMARY:LHA Annual meeting at Virtual meeting place
DESCRIPTION:
LOCATION:Virtual meeting place\, Oakland\, US
UID:20261112T030000Z-88-communications@lakeshorehomes.net
URL:https://lakeshorehomes.net
DTSTART;VALUE=DATE-TIME;TZID=GMT:20261112T030000Z
DTEND;VALUE=DATE-TIME;TZID=GMT:20261112T030000Z
DTSTAMP:20260420T100956Z
END:VEVENT
END:VCALENDAR